BEGIN:VCALENDAR
VERSION:2.0
PRODID:-//Ghana HR Solutions - ECPv6.15.12//NONSGML v1.0//EN
CALSCALE:GREGORIAN
METHOD:PUBLISH
X-ORIGINAL-URL:https://ghanahrsolutions.techaffinity.us
X-WR-CALDESC:Events for Ghana HR Solutions
REFRESH-INTERVAL;VALUE=DURATION:PT1H
X-Robots-Tag:noindex
X-PUBLISHED-TTL:PT1H
BEGIN:VTIMEZONE
TZID:UTC
BEGIN:STANDARD
TZOFFSETFROM:+0000
TZOFFSETTO:+0000
TZNAME:UTC
DTSTART:20240101T000000
END:STANDARD
END:VTIMEZONE
BEGIN:VEVENT
DTSTART;TZID=UTC:20251217T100000
DTEND;TZID=UTC:20251217T180000
DTSTAMP:20260420T163650
CREATED:20251003T161352Z
LAST-MODIFIED:20251003T161521Z
UID:7233-1765965600-1765994400@ghanahrsolutions.techaffinity.us
SUMMARY:Annual Year-Round Off: HR Master Class
DESCRIPTION:Intensive HR Master Class on HR trends\, AI\, and technology shaping the future of HR.
URL:https://ghanahrsolutions.techaffinity.us/event/annual-year-round-off-hr-master-class/
ATTACH;FMTTYPE=image/jpeg:https://ghanahrsolutions.techaffinity.us/wp-content/uploads/2025/09/bg_2-min-scaled.jpg
END:VEVENT
BEGIN:VEVENT
DTSTART;TZID=UTC:20251029T100000
DTEND;TZID=UTC:20251029T180000
DTSTAMP:20260420T163651
CREATED:20251003T161248Z
LAST-MODIFIED:20251003T161312Z
UID:7231-1761732000-1761760800@ghanahrsolutions.techaffinity.us
SUMMARY:HR for Non-HR Managers
DESCRIPTION:Practical HR knowledge for line managers\, supervisors & professionals without HR background.
URL:https://ghanahrsolutions.techaffinity.us/event/hr-for-non-hr-managers/
ATTACH;FMTTYPE=image/png:https://ghanahrsolutions.techaffinity.us/wp-content/uploads/2025/09/Frame-334-8.png
END:VEVENT
END:VCALENDAR